BEGIN:VCALENDAR
VERSION:2.0
PRODID:-//The Queens Head - ECPv4.2.3//NONSGML v1.0//EN
CALSCALE:GREGORIAN
METHOD:PUBLISH
X-WR-CALNAME:The Queens Head
X-ORIGINAL-URL:https://www.queensheadeye.co.uk
X-WR-CALDESC:Events for The Queens Head
BEGIN:VEVENT
DTSTART;TZID=UTC+0:20140918T180000
DTEND;TZID=UTC+0:20140918T210000
DTSTAMP:20260425T001312
CREATED:20140729T181022
LAST-MODIFIED:20140918T133925
UID:343-1411063200-1411074000@www.queensheadeye.co.uk
SUMMARY:Asian Cuisine Night
DESCRIPTION:An evening of sumptuous home-cooked Asian Cuisine with a selection of Indian/Pakistani\, Thai and Japanese dishes.\n\nContact Us to book a table or find out more.\n\n 
URL:https://www.queensheadeye.co.uk/event/asian-cuisine-night/
LOCATION:7 Cross Street\, Eye\, Suffolk\, IP23 7AB\, United Kingdom
ATTACH;FMTTYPE=image/jpeg:https://www.queensheadeye.co.uk/wp-content/uploads/2014/07/29681828_s.jpg
END:VEVENT
END:VCALENDAR