BEGIN:VCALENDAR
VERSION:2.0
PRODID:-//The Queens Head - ECPv4.2.3//NONSGML v1.0//EN
CALSCALE:GREGORIAN
METHOD:PUBLISH
X-WR-CALNAME:The Queens Head
X-ORIGINAL-URL:https://www.queensheadeye.co.uk
X-WR-CALDESC:Events for The Queens Head
BEGIN:VEVENT
DTSTART;VALUE=DATE:20150121
DTEND;VALUE=DATE:20150121
DTSTAMP:20260423T060954
CREATED:20141219
LAST-MODIFIED:20150121
UID:514-1421798400-1421884799@www.queensheadeye.co.uk
SUMMARY:Asian Night - *Cancelled*
DESCRIPTION:Sadly due to illness we have had to cancel this event. We will now be doing this in February date to follow shortly.
URL:https://www.queensheadeye.co.uk/event/asian-night/
LOCATION:7 Cross Street\, Eye\, Suffolk\, IP23 7AB\, United Kingdom
END:VEVENT
END:VCALENDAR