BEGIN:VCALENDAR
VERSION:2.0
PRODID:-//The Queens Head - ECPv4.2.3//NONSGML v1.0//EN
CALSCALE:GREGORIAN
METHOD:PUBLISH
X-WR-CALNAME:The Queens Head
X-ORIGINAL-URL:https://www.queensheadeye.co.uk
X-WR-CALDESC:Events for The Queens Head
BEGIN:VEVENT
DTSTART;TZID=UTC+0:20141105T160000
DTEND;TZID=UTC+0:20141105T220000
DTSTAMP:20260424T061455
CREATED:20141103T202310
LAST-MODIFIED:20141103T202310
UID:446-1415203200-1415224800@www.queensheadeye.co.uk
SUMMARY:Bonfire Night
DESCRIPTION:Bonfire Night Kids Fun Evening on Wednesday the 5th of November\n\nFace Painting\, Kids Games\, Apple Bobbing and Hot Dogs (just £2.50 each) on the menu!
URL:https://www.queensheadeye.co.uk/event/bonfire-night/
LOCATION:7 Cross Street\, Eye\, Suffolk\, IP23 7AB\, United Kingdom
END:VEVENT
END:VCALENDAR