BEGIN:VCALENDAR
VERSION:2.0
PRODID:-//The Queens Head - ECPv4.2.3//NONSGML v1.0//EN
CALSCALE:GREGORIAN
METHOD:PUBLISH
X-WR-CALNAME:The Queens Head
X-ORIGINAL-URL:https://www.queensheadeye.co.uk
X-WR-CALDESC:Events for The Queens Head
BEGIN:VEVENT
DTSTART;VALUE=DATE:20150830
DTEND;VALUE=DATE:20150830
DTSTAMP:20260423T164729
CREATED:20150813
LAST-MODIFIED:20150813
UID:586-1440892800-1440979199@www.queensheadeye.co.uk
SUMMARY:Buskers & Bingo
DESCRIPTION:Buskers from 2-5 then BINGO from 6pm
URL:https://www.queensheadeye.co.uk/event/buskers-from-2-5-then-bingo-from-6pm/
LOCATION:7 Cross Street\, Eye\, Suffolk\, IP23 7AB\, United Kingdom
END:VEVENT
END:VCALENDAR