BEGIN:VCALENDAR
VERSION:2.0
PRODID:-//The Queens Head - ECPv4.2.3//NONSGML v1.0//EN
CALSCALE:GREGORIAN
METHOD:PUBLISH
X-WR-CALNAME:The Queens Head
X-ORIGINAL-URL:https://www.queensheadeye.co.uk
X-WR-CALDESC:Events for The Queens Head
BEGIN:VEVENT
DTSTART;VALUE=DATE:20141225
DTEND;VALUE=DATE:20141225
DTSTAMP:20260423T145603
CREATED:20141218
LAST-MODIFIED:20141222
UID:505-1419465600-1419551999@www.queensheadeye.co.uk
SUMMARY:Christmas Day
DESCRIPTION:Bar open from 11am to 2pm. Then closed for private lunch.
URL:https://www.queensheadeye.co.uk/event/christmas-day/
LOCATION:7 Cross Street\, Eye\, Suffolk\, IP23 7AB\, United Kingdom
END:VEVENT
END:VCALENDAR