BEGIN:VCALENDAR
VERSION:2.0
PRODID:-//The Queens Head - ECPv4.2.3//NONSGML v1.0//EN
CALSCALE:GREGORIAN
METHOD:PUBLISH
X-WR-CALNAME:The Queens Head
X-ORIGINAL-URL:https://www.queensheadeye.co.uk
X-WR-CALDESC:Events for The Queens Head
BEGIN:VEVENT
DTSTART;VALUE=DATE:20141224
DTEND;VALUE=DATE:20141224
DTSTAMP:20260423T163459
CREATED:20141218
LAST-MODIFIED:20141222
UID:504-1419379200-1419465599@www.queensheadeye.co.uk
SUMMARY:Christmas Eve
DESCRIPTION:Bar open 11am-close.\n\nFood served from 12 noon to 6pm only.
URL:https://www.queensheadeye.co.uk/event/christmas-eve/
LOCATION:7 Cross Street\, Eye\, Suffolk\, IP23 7AB\, United Kingdom
END:VEVENT
END:VCALENDAR