BEGIN:VCALENDAR
VERSION:2.0
PRODID:-//The Queens Head - ECPv4.2.3//NONSGML v1.0//EN
CALSCALE:GREGORIAN
METHOD:PUBLISH
X-WR-CALNAME:The Queens Head
X-ORIGINAL-URL:https://www.queensheadeye.co.uk
X-WR-CALDESC:Events for The Queens Head
BEGIN:VEVENT
DTSTART;VALUE=DATE:20141227
DTEND;VALUE=DATE:20141228
DTSTAMP:20260423T111322
CREATED:20141218
LAST-MODIFIED:20141218
UID:507-1419638400-1419811199@www.queensheadeye.co.uk
SUMMARY:CLOSED
DESCRIPTION:Please note the Queens Head is closed on the 27th and 28th of December.
URL:https://www.queensheadeye.co.uk/event/closed/
LOCATION:7 Cross Street\, Eye\, Suffolk\, IP23 7AB\, United Kingdom
END:VEVENT
END:VCALENDAR