BEGIN:VCALENDAR
VERSION:2.0
PRODID:-//The Queens Head - ECPv4.2.3//NONSGML v1.0//EN
CALSCALE:GREGORIAN
METHOD:PUBLISH
X-WR-CALNAME:The Queens Head
X-ORIGINAL-URL:https://www.queensheadeye.co.uk
X-WR-CALDESC:Events for The Queens Head
BEGIN:VEVENT
DTSTART;TZID=UTC+0:20150329T150000
DTEND;TZID=UTC+0:20150329T200000
DTSTAMP:20260423T082107
CREATED:20150302T201335
LAST-MODIFIED:20150327T102710
UID:556-1427641200-1427659200@www.queensheadeye.co.uk
SUMMARY:Family Fun Day
DESCRIPTION:Family Fun Day 3pm - 8pm. BBQ\, Bouncy Castle\, Face Painting and Live Music\n\nCome on down for a great afternoon to kick off the start of British Summer Time.\n\nFree Kids Meal Raffle Ticket received with every adult BBQ Meal @ £7 (1 item + Salad + Bread)\n\nBBQ Menu \n\nKids Burger or Hot Dog\nChoose 1 item & Salad for £7\nPrime Rump Steak Burger \nBBQ Shortback Ribs\nPoached Guinness Sausages\nMarninated Minute Steak\nGarlic & Herb Chicken Breast\nSalmon & Lemon Grass Thai Style
URL:https://www.queensheadeye.co.uk/event/family-fun-day/
LOCATION:7 Cross Street\, Eye\, Suffolk\, IP23 7AB\, United Kingdom
END:VEVENT
END:VCALENDAR