BEGIN:VCALENDAR
VERSION:2.0
PRODID:-//The Queens Head - ECPv4.2.3//NONSGML v1.0//EN
CALSCALE:GREGORIAN
METHOD:PUBLISH
X-WR-CALNAME:The Queens Head
X-ORIGINAL-URL:https://www.queensheadeye.co.uk
X-WR-CALDESC:Events for The Queens Head
BEGIN:VEVENT
DTSTART;TZID=UTC+0:20141205T180000
DTEND;TZID=UTC+0:20141205T230000
DTSTAMP:20260424T000319
CREATED:20141129T115751
LAST-MODIFIED:20141129T120415
UID:475-1417802400-1417820400@www.queensheadeye.co.uk
SUMMARY:Free Chilli Night
DESCRIPTION:On the night of the Late Night Shopping and Christmas Light Switch-on on Friday 5th of December we will be giving away FREE Chilli at the Queens Head to help you warm up! From 6:00pm
URL:https://www.queensheadeye.co.uk/event/free-chilli-night/
LOCATION:7 Cross Street\, Eye\, Suffolk\, IP23 7AB\, United Kingdom
ATTACH;FMTTYPE=image/png:https://www.queensheadeye.co.uk/wp-content/uploads/2014/11/Screen-Shot-2014-11-29-at-11.51.28.png
END:VEVENT
END:VCALENDAR