BEGIN:VCALENDAR
VERSION:2.0
PRODID:-//The Queens Head - ECPv4.2.3//NONSGML v1.0//EN
CALSCALE:GREGORIAN
METHOD:PUBLISH
X-WR-CALNAME:The Queens Head
X-ORIGINAL-URL:https://www.queensheadeye.co.uk
X-WR-CALDESC:Events for The Queens Head
BEGIN:VEVENT
DTSTART;TZID=UTC+0:20151031T200000
DTEND;TZID=UTC+0:20151031T230000
DTSTAMP:20260424T002502
CREATED:20151008T131324
LAST-MODIFIED:20151008T131324
UID:600-1446321600-1446332400@www.queensheadeye.co.uk
SUMMARY:Halloween Disco
DESCRIPTION:Come and have a Spooktacular night! 8 till late. Fancy Dress - Guns & Ghosts or anything spooky is optional.
URL:https://www.queensheadeye.co.uk/event/halloween-disco/
LOCATION:7 Cross Street\, Eye\, Suffolk\, IP23 7AB\, United Kingdom
END:VEVENT
END:VCALENDAR