BEGIN:VCALENDAR
VERSION:2.0
PRODID:-//The Queens Head - ECPv4.2.3//NONSGML v1.0//EN
CALSCALE:GREGORIAN
METHOD:PUBLISH
X-WR-CALNAME:The Queens Head
X-ORIGINAL-URL:https://www.queensheadeye.co.uk
X-WR-CALDESC:Events for The Queens Head
BEGIN:VEVENT
DTSTART;VALUE=DATE:20150117
DTEND;VALUE=DATE:20150117
DTSTAMP:20260423T042219
CREATED:20141219
LAST-MODIFIED:20150113
UID:513-1421452800-1421539199@www.queensheadeye.co.uk
SUMMARY:Japanese Saturday
DESCRIPTION:A night of authentic Japanese cuisine prepared by our guest chefs.\n
URL:https://www.queensheadeye.co.uk/event/japanese-saturday/
LOCATION:7 Cross Street\, Eye\, Suffolk\, IP23 7AB\, United Kingdom
ATTACH;FMTTYPE=image/jpeg:https://www.queensheadeye.co.uk/wp-content/uploads/2014/12/japanesesaturday.jpg
END:VEVENT
END:VCALENDAR