BEGIN:VCALENDAR
VERSION:2.0
PRODID:-//The Queens Head - ECPv4.2.3//NONSGML v1.0//EN
CALSCALE:GREGORIAN
METHOD:PUBLISH
X-WR-CALNAME:The Queens Head
X-ORIGINAL-URL:https://www.queensheadeye.co.uk
X-WR-CALDESC:Events for The Queens Head
BEGIN:VEVENT
DTSTART;TZID=UTC+0:20141129T200000
DTEND;TZID=UTC+0:20141129T230000
DTSTAMP:20260424T043810
CREATED:20141126T212221
LAST-MODIFIED:20141126T212221
UID:469-1417291200-1417302000@www.queensheadeye.co.uk
SUMMARY:Live Music : Murphy's Lore
DESCRIPTION:Come along to the Queens Head This Saturday Night From 8pm to see the Fabulous Murphy's Lore.
URL:https://www.queensheadeye.co.uk/event/live-music-murphys-lore/
LOCATION:7 Cross Street\, Eye\, Suffolk\, IP23 7AB\, United Kingdom
ATTACH;FMTTYPE=image/jpeg:https://www.queensheadeye.co.uk/wp-content/uploads/2014/11/10734272_1540496902860280_9211730395125151920_n.jpg
END:VEVENT
END:VCALENDAR