BEGIN:VCALENDAR
VERSION:2.0
PRODID:-//The Queens Head - ECPv4.2.3//NONSGML v1.0//EN
CALSCALE:GREGORIAN
METHOD:PUBLISH
X-WR-CALNAME:The Queens Head
X-ORIGINAL-URL:https://www.queensheadeye.co.uk
X-WR-CALDESC:Events for The Queens Head
BEGIN:VEVENT
DTSTART;TZID=UTC+0:20141231T200000
DTEND;TZID=UTC+0:20141231T200000
DTSTAMP:20260423T093015
CREATED:20141205T143239
LAST-MODIFIED:20141222T114556
UID:481-1420056000-1420056000@www.queensheadeye.co.uk
SUMMARY:New Years Eve 
DESCRIPTION:Come and celebrate New Years Eve and 2015 at the Queens Head.\n\n80's Fancy Dress Disco\, Free Evening Buffet.\n\nNo admittance after 11pm.\n\nBar open 11am-close. Food 12-3pm.
URL:https://www.queensheadeye.co.uk/event/new-years-eve/
LOCATION:7 Cross Street\, Eye\, Suffolk\, IP23 7AB\, United Kingdom
ATTACH;FMTTYPE=image/png:https://www.queensheadeye.co.uk/wp-content/uploads/2014/12/Screen-Shot-2014-12-05-at-14.29.17.png
END:VEVENT
END:VCALENDAR