BEGIN:VCALENDAR
VERSION:2.0
PRODID:-//The Queens Head - ECPv4.2.3//NONSGML v1.0//EN
CALSCALE:GREGORIAN
METHOD:PUBLISH
X-WR-CALNAME:The Queens Head
X-ORIGINAL-URL:https://www.queensheadeye.co.uk
X-WR-CALDESC:Events for The Queens Head
BEGIN:VEVENT
DTSTART;TZID=UTC+0:20141015T200000
DTEND;TZID=UTC+0:20141015T230000
DTSTAMP:20260424T110233
CREATED:20140729T185243
LAST-MODIFIED:20140807T111129
UID:355-1413403200-1413414000@www.queensheadeye.co.uk
SUMMARY:Park Radio Quiz - Live on Air
DESCRIPTION:Your chance to be a public spectacle (do your homework for this one!). Booking necessary.
URL:https://www.queensheadeye.co.uk/event/park-radio-quiz-live-on-air/
LOCATION:7 Cross Street\, Eye\, Suffolk\, IP23 7AB\, United Kingdom
ATTACH;FMTTYPE=image/jpeg:https://www.queensheadeye.co.uk/wp-content/uploads/2014/07/parkradio.jpg
END:VEVENT
END:VCALENDAR