BEGIN:VCALENDAR
VERSION:2.0
PRODID:-//The Queens Head - ECPv4.2.3//NONSGML v1.0//EN
CALSCALE:GREGORIAN
METHOD:PUBLISH
X-WR-CALNAME:The Queens Head
X-ORIGINAL-URL:https://www.queensheadeye.co.uk
X-WR-CALDESC:Events for The Queens Head
BEGIN:VEVENT
DTSTART;VALUE=DATE:20150210
DTEND;VALUE=DATE:20150210
DTSTAMP:20260423T075735
CREATED:20141219
LAST-MODIFIED:20141219
UID:511-1423526400-1423612799@www.queensheadeye.co.uk
SUMMARY:The Big Quiz
DESCRIPTION:Our Monthly Quiz Night - more details coming soon
URL:https://www.queensheadeye.co.uk/event/the-big-quiz-3/
LOCATION:7 Cross Street\, Eye\, Suffolk\, IP23 7AB\, United Kingdom
END:VEVENT
END:VCALENDAR