BEGIN:VCALENDAR
VERSION:2.0
PRODID:-//The Queens Head - ECPv4.2.3//NONSGML v1.0//EN
CALSCALE:GREGORIAN
METHOD:PUBLISH
X-WR-CALNAME:The Queens Head
X-ORIGINAL-URL:https://www.queensheadeye.co.uk
X-WR-CALDESC:Events for The Queens Head
BEGIN:VEVENT
DTSTART;TZID=UTC+0:20141209T193000
DTEND;TZID=UTC+0:20141209T193000
DTSTAMP:20260423T222236
CREATED:20141124T131613
LAST-MODIFIED:20141129T151340
UID:468-1418153400-1418153400@www.queensheadeye.co.uk
SUMMARY:The Quiz of the Year
DESCRIPTION:Join us for our Great Christmas Quiz On Tuesday the 9th of December.\n\nQuiz starts at 7:30pm\n\nIn Addition to a great Quiz\, we also have Gorgeous Gary's Guesswork Game\, 'Everyone's a Cracker' and 'Everyone's a Winner (maybe!)'. There will also be delicious Christmas nibbles courtesy of Leigh (and our great new kitchen!)\n\nNot to be missed. Teams of up to 6. Limited space so booking is essential.
URL:https://www.queensheadeye.co.uk/event/the-great-christmas-quiz/
LOCATION:7 Cross Street\, Eye\, Suffolk\, IP23 7AB\, United Kingdom
ATTACH;FMTTYPE=image/jpeg:https://www.queensheadeye.co.uk/wp-content/uploads/2014/11/10418856_1542719469304690_1538913951354692093_n.jpg
END:VEVENT
END:VCALENDAR