BEGIN:VCALENDAR
VERSION:2.0
PRODID:-//The Queens Head - ECPv4.2.3//NONSGML v1.0//EN
CALSCALE:GREGORIAN
METHOD:PUBLISH
X-WR-CALNAME:The Queens Head
X-ORIGINAL-URL:https://www.queensheadeye.co.uk
X-WR-CALDESC:Events for The Queens Head
BEGIN:VEVENT
DTSTART;VALUE=DATE:20150214
DTEND;VALUE=DATE:20150214
DTSTAMP:20260423T094255
CREATED:20141219
LAST-MODIFIED:20150121
UID:515-1423872000-1423958399@www.queensheadeye.co.uk
SUMMARY:Valentine's Day
DESCRIPTION:Valentines Menu £25 per head Payment received one week prior with pre order\n\n
URL:https://www.queensheadeye.co.uk/event/valentines-day/
LOCATION:7 Cross Street\, Eye\, Suffolk\, IP23 7AB\, United Kingdom
END:VEVENT
END:VCALENDAR